BEGIN:VCALENDAR
CALSCALE:GREGORIAN
METHOD:PUBLISH
PRODID:-//FICMS//EN
VERSION:2.0
BEGIN:VEVENT
DTSTAMP:20260316T230000Z
UID:103T1773633600
DTSTART:20260316T230000Z
DTEND:20260317T000000Z
CLASS:PUBLIC
DESCRIPTION:Event: Corporate Prayer
Date/Time: 7:00 PM - 8:00 PM America/New_York
Monday, March 16 2026



Want more details on this event?
Visit: https://www.ccwestside.com/calendar/event/103T1773633600
SUMMARY:Corporate Prayer
CATEGORIES:Events
TRANSP:OPAQUE
END:VEVENT
END:VCALENDAR
